BEGIN:VCALENDAR
VERSION:2.0
PRODID:-//YourSite//ICS Event Generator//EN
CALSCALE:GREGORIAN
METHOD:PUBLISH
BEGIN:VEVENT
UID:event-1774444941145-xhwdguo7@yourdomain.com
DTSTAMP:20260325T132221Z
DTSTART;TZID=Pacific/Midway:20260326T123200
DTEND;TZID=Pacific/Midway:20260327T031200
SUMMARY:Test
LOCATION:asfsaf
END:VEVENT
END:VCALENDAR
