BEGIN:VCALENDAR
PRODID:-//opencal/ical//2.0/EN
VERSION:2.0
CALSCALE:GREGORIAN
BEGIN:VEVENT
UID:7b67f0b81185015472e91498f7a84596
DTSTAMP:20260422T125937Z
SUMMARY:SYMPOESIA: RICHTER\, REICH
DTSTART:20260430T193000
DTEND:20260430T203000
LOCATION:Queen Elizabeth Hall at Southbank Centre\, London
END:VEVENT
END:VCALENDAR
