BEGIN:VCALENDAR
PRODID:-//opencal/ical//2.0/EN
VERSION:2.0
CALSCALE:GREGORIAN
BEGIN:VEVENT
UID:fd4798da70547fb588201e1f9b5c9ef9
DTSTAMP:20260422T125944Z
SUMMARY:HENZE&#8217\;S VOICES &#8211\; ALDEBURGH
DTSTART:20260617T160000
DTEND:20260617T170000
LOCATION:Britten Studio\, Aldeburgh Festival\, UK
END:VEVENT
END:VCALENDAR
