BEGIN:VCALENDAR
PRODID:-//opencal/ical//2.0/EN
VERSION:2.0
CALSCALE:GREGORIAN
BEGIN:VEVENT
UID:8bb08824f7dcd2605c31cb120e3f48d7
DTSTAMP:20260422T144726Z
SUMMARY:SOUND OUT! ON TOUR &#8211\; ENFIELD
DTSTART:20250624T100000
DTEND:20250624T110000
LOCATION:39 London Rd\, London\, Enfield EN2 6DS
END:VEVENT
END:VCALENDAR
