BEGIN:VCALENDAR
PRODID:-//opencal/ical//2.0/EN
VERSION:2.0
CALSCALE:GREGORIAN
BEGIN:VEVENT
UID:788aa93f2c34af53522975f859c15e73
DTSTAMP:20260422T113549Z
SUMMARY:LONDON SINFONIETTA &amp\; JONNY GREENWOOD: STEVE REICH
DTSTART:20260927T153000
DTEND:20260927T163000
LOCATION:Southbank Centre's Royal Festival Hall\, London
END:VEVENT
END:VCALENDAR
