BEGIN:VCALENDAR
PRODID:-//opencal/ical//2.0/EN
VERSION:2.0
CALSCALE:GREGORIAN
BEGIN:VEVENT
UID:95e328bc64f9456be5c0237c0132af39
DTSTAMP:20260422T131834Z
SUMMARY:TIME ENTWINED: GERBER\, MASON\, BIRTWISTLE
DTSTART:20260611T193000
DTEND:20260611T203000
LOCATION:Southbank Centre's Queen Elizabeth Hall\, UK
END:VEVENT
END:VCALENDAR
