BEGIN:VCALENDAR
PRODID:-//opencal/ical//2.0/EN
VERSION:2.0
CALSCALE:GREGORIAN
BEGIN:VEVENT
UID:47729d37a32bef34e3b1016bfc1c455f
DTSTAMP:20260422T132840Z
SUMMARY:BRIGITTA MUNTENDORF: LAST SHOW
DTSTART:20261128T193000
DTEND:20261128T203000
LOCATION:Southbank Centre's Queen Elizabeth Hall\, UK
END:VEVENT
END:VCALENDAR
